BEGIN:VCALENDAR
VERSION:2.0
PRODID:-// - ECPv6.15.20//NONSGML v1.0//EN
CALSCALE:GREGORIAN
METHOD:PUBLISH
X-ORIGINAL-URL:https://cenaclephilsing.org
X-WR-CALDESC:Events for 
REFRESH-INTERVAL;VALUE=DURATION:PT1H
X-Robots-Tag:noindex
X-PUBLISHED-TTL:PT1H
BEGIN:VTIMEZONE
TZID:Asia/Shanghai
BEGIN:STANDARD
TZOFFSETFROM:+0800
TZOFFSETTO:+0800
TZNAME:CST
DTSTART:20250101T000000
END:STANDARD
END:VTIMEZONE
BEGIN:VEVENT
DTSTART;TZID=Asia/Shanghai:20260418T080000
DTEND;TZID=Asia/Shanghai:20260419T160000
DTSTAMP:20260424T235951
CREATED:20260306T014112Z
LAST-MODIFIED:20260306T014112Z
UID:6972-1776499200-1776614400@cenaclephilsing.org
SUMMARY:True Love Ways: A Cenacle Search-In
DESCRIPTION:April 18-19\,2026 \n\nDiscover the Ways of True Love.\nDiscover God’s abiding love for you.\n\n\nThis weekend retreat – seminar is open to all single young women ages 19-35 years old who desire to explore and discern a vocation to religious life. \nThis program is free of charge but if you feel generous\, we do accept donations. \nregister here: https://forms.gle/YioDueoKVBazbXrK6
URL:https://cenaclephilsing.org/event/true-love-ways-a-cenacle-search-in/
CATEGORIES:Quezon City
END:VEVENT
END:VCALENDAR