BEGIN:VCALENDAR
VERSION:2.0
PRODID:-// - ECPv6.15.20//NONSGML v1.0//EN
CALSCALE:GREGORIAN
METHOD:PUBLISH
X-ORIGINAL-URL:https://cenaclephilsing.org
X-WR-CALDESC:Events for 
REFRESH-INTERVAL;VALUE=DURATION:PT1H
X-Robots-Tag:noindex
X-PUBLISHED-TTL:PT1H
BEGIN:VTIMEZONE
TZID:Asia/Shanghai
BEGIN:STANDARD
TZOFFSETFROM:+0800
TZOFFSETTO:+0800
TZNAME:CST
DTSTART:20250101T000000
END:STANDARD
END:VTIMEZONE
BEGIN:VEVENT
DTSTART;TZID=Asia/Shanghai:20260305T080000
DTEND;TZID=Asia/Shanghai:20260305T170000
DTSTAMP:20260424T223251
CREATED:20260305T065629Z
LAST-MODIFIED:20260305T065629Z
UID:6960-1772697600-1772730000@cenaclephilsing.org
SUMMARY:Palm Sunday Retreat 2026
DESCRIPTION:March 28: 9:00AM – March 29:  ends at 12NN\nFacilitator: Sr. Rose Li\, rc\n\nA Lenten journey of prayer contemplating the life of Jesus as he begins his Passion. \n\nThis is a silent retreat.\n\n\nFor more information/to register: https://forms.gle/Lq4jwmmgP4Ct7oKa8\n\n\nPlease be informed that if you CANCEL your reservation ONE WEEK OR LESS THAN A WEEK BEFORE THE PROGRAM your reservation fee will be considered NON-REFUNDABLE. Our slots are limited and we would like everyone to have a chance to avail of our programs. Thank you for your understanding. \nFor more programs\, please check our website for updates: www.cenaclephilsing.org/calendar/\n\n 
URL:https://cenaclephilsing.org/event/palm-sunday-retreat-2026/
CATEGORIES:Quezon City
END:VEVENT
BEGIN:VEVENT
DTSTART;TZID=Asia/Shanghai:20260307T083000
DTEND;TZID=Asia/Shanghai:20260308T170000
DTSTAMP:20260424T223252
CREATED:20260305T065332Z
LAST-MODIFIED:20260305T065332Z
UID:6958-1772872200-1772989200@cenaclephilsing.org
SUMMARY:Journey Toward Life: A Lenten Retreat Through Journaling and Artwork
DESCRIPTION:Journey Toward Life: A Lenten Retreat Through Journaling and Artwork\nMarch 7-8\,2026\nwith Sr. Rose Lirc and Ms. Pinky Lumayno  \n“For Lent is a time for recognizing that our lowly ashes are loved by God. It is a time of grace\, a time for letting God gaze upon us\nwith love and in this way change our lives. We were put in this world to go from ashes to life” (Pope Francis homily Feb 28\, 2020) \nThis weekend program aims to help the participants to reflect and experience God’s love for us and journey toward the life God has promised to us. There will be distinct times given for personal journaling and time for individual artwork. Artists and non-artists are all welcome. You may bring your own art and journaling materials\, but some materials will also be provided. \nFor more information/to register: https://forms.gle/ifehRNog4cjdMx5a6 \n 
URL:https://cenaclephilsing.org/event/journey-toward-life-a-lenten-retreat-through-journaling-and-artwork/
CATEGORIES:Quezon City
END:VEVENT
END:VCALENDAR