BEGIN:VCALENDAR
VERSION:2.0
PRODID:-// - ECPv6.15.20//NONSGML v1.0//EN
CALSCALE:GREGORIAN
METHOD:PUBLISH
X-ORIGINAL-URL:https://cenaclephilsing.org
X-WR-CALDESC:Events for 
REFRESH-INTERVAL;VALUE=DURATION:PT1H
X-Robots-Tag:noindex
X-PUBLISHED-TTL:PT1H
BEGIN:VTIMEZONE
TZID:Asia/Shanghai
BEGIN:STANDARD
TZOFFSETFROM:+0800
TZOFFSETTO:+0800
TZNAME:CST
DTSTART:20250101T000000
END:STANDARD
END:VTIMEZONE
BEGIN:VEVENT
DTSTART;TZID=Asia/Shanghai:20260620T083000
DTEND;TZID=Asia/Shanghai:20260621T160000
DTSTAMP:20260424T222443
CREATED:20260306T014229Z
LAST-MODIFIED:20260306T014229Z
UID:6974-1781944200-1782057600@cenaclephilsing.org
SUMMARY:Mended by Mercy: Discovering Grace in Brokenness
DESCRIPTION:Mended by Mercy: Discovering Grace in Brokenness\n20-21 June 2026 \nFacilitator: Sr. Cecille Tuble\,rc\n\n\n” Man is born broken. He lives by healing. God’s grace is glue. “\n\nInspired by the ancient Japanese art of “Kintsugi\,” this weekend retreat will explore the experiences of brokenness and loss in one’s life\, and discover the hidden graces that move one to healing and wholeness. \n\n\nregister here: https://forms.gle/5QkeYGJGnStCR1U59
URL:https://cenaclephilsing.org/event/mended-by-mercy-discovering-grace-in-brokenness/
CATEGORIES:Quezon City
END:VEVENT
END:VCALENDAR