BEGIN:VCALENDAR
VERSION:2.0
PRODID:-// - ECPv6.15.20//NONSGML v1.0//EN
CALSCALE:GREGORIAN
METHOD:PUBLISH
X-ORIGINAL-URL:https://cenaclephilsing.org
X-WR-CALDESC:Events for 
REFRESH-INTERVAL;VALUE=DURATION:PT1H
X-Robots-Tag:noindex
X-PUBLISHED-TTL:PT1H
BEGIN:VTIMEZONE
TZID:UTC
BEGIN:STANDARD
TZOFFSETFROM:+0000
TZOFFSETTO:+0000
TZNAME:UTC
DTSTART:20240101T000000
END:STANDARD
END:VTIMEZONE
BEGIN:VEVENT
DTSTART;TZID=UTC:20250413T150000
DTEND;TZID=UTC:20250601T170000
DTSTAMP:20260425T104358
CREATED:20250411T074918Z
LAST-MODIFIED:20250613T075024Z
UID:4622-1744556400-1748797200@cenaclephilsing.org
SUMMARY:From Ashes to Easter
DESCRIPTION:From Ashes to Easter\n\n2 March – 20 April 2025\nwith Sr. Fran Tan\, rc \n\n\nSuggested Contribution: P3\,500 \nOnsite Session: Every Sunday 3PM -5PM \nAn 8-week programme based on the Spiritual Exercises of St. Ignatius of Loyola\, which enables one to know Jesus Christ more intimately in the midst of life’s daily routine. It includes a weekly meeting of faith sharing\, daily prayer using Scripture\, and spiritual direction. It falls within the Lent season\, the retreat theme of “Journeying from Ashes to Easter” would be a timely opportunity for us  to deepen our Lenten pilgrimage. \n\nregister here: https://forms.gle/foKwoYLQgpwwxja76
URL:https://cenaclephilsing.org/event/from-ashes-to-easter-2/
LOCATION:Cenacle Spirituality Center\, 3886\, First Street\, Forest Hills Subd\, Banawa\,\, Cebu City\, Philippines
CATEGORIES:Quezon City
END:VEVENT
END:VCALENDAR