BEGIN:VCALENDAR
VERSION:2.0
PRODID:-// - ECPv6.15.20//NONSGML v1.0//EN
CALSCALE:GREGORIAN
METHOD:PUBLISH
X-ORIGINAL-URL:https://cenaclephilsing.org
X-WR-CALDESC:Events for 
REFRESH-INTERVAL;VALUE=DURATION:PT1H
X-Robots-Tag:noindex
X-PUBLISHED-TTL:PT1H
BEGIN:VTIMEZONE
TZID:Asia/Shanghai
BEGIN:STANDARD
TZOFFSETFROM:+0800
TZOFFSETTO:+0800
TZNAME:CST
DTSTART:20240101T000000
END:STANDARD
END:VTIMEZONE
BEGIN:VEVENT
DTSTART;TZID=Asia/Shanghai:20251206T080000
DTEND;TZID=Asia/Shanghai:20251207T170000
DTSTAMP:20260425T042145
CREATED:20251028T093403Z
LAST-MODIFIED:20251028T093403Z
UID:5943-1765008000-1765126800@cenaclephilsing.org
SUMMARY:Be Our Light: A Christmas Retreat Through Art Journaling
DESCRIPTION:DECEMBER 6-7\,2025\nWITH SR. CECILLE TUBLE\, RC AND MS. PINKY LUMAYNO \nTired of the usual Christmas season bustle and noise? Desiring a quiet space to pray. reflect and be creative as you prepare for this holy season? This weekend retreat offers a reflective and creative space where you will contemplate Christmas images in art\, pray on scripture texts\, reflect on your life’s journey\, and create your own art journal. Through these activities\, you will pray and encounter the God who “pitched his tent among us” and\nbecame one of us. \nArtists and non-artists are all welcome. You may bring your own art and journaling materials\, but some materials will also be provided.\nLimited slots available. \nregister here: https://forms.gle/MoCq1wZb17AZd7dE9
URL:https://cenaclephilsing.org/event/be-our-light-a-christmas-retreat-through-art-journaling/
CATEGORIES:Quezon City
END:VEVENT
END:VCALENDAR